BEGIN:VCALENDAR
VERSION:2.0
PRODID:-//EventFlow//WP//PT
BEGIN:VEVENT
UID:9007@porecatu.pr.gov.br
DTSTART:20260430T130000
DTEND:20260430T140000
SUMMARY:II Simpósio Multidisciplinar sobre o Autismo
DESCRIPTION:
LOCATION:Centro Social Urbano
URL:https://porecatu.pr.gov.br/eventos/ii-simposio-multidisciplinar-sobre-o-autismo/
END:VEVENT
END:VCALENDAR
